BEGIN:VCALENDAR
VERSION:2.0
PRODID:-//Eventin//Event Calendar//EN
CALSCALE:GREGORIAN
METHOD:PUBLISH
BEGIN:VEVENT
UID:8fccd75a9d8ea4f3f99b3715176f9f9c@tg.grunliberale.ch
SUMMARY:Wyfelder Fritig
DESCRIPTION:Die GLP Gnüss-Bar befindet sich an der Frauenfelderstrasse\n 
LOCATION:Frauenfelderstrasse Weinfelden
DTSTAMP:20260421T085633Z
DTSTART:20260904T150000Z
DTEND:20260904T200000Z
END:VEVENT
END:VCALENDAR
