BEGIN:VCALENDAR
VERSION:2.0
PRODID:-//Eventin//Event Calendar//EN
CALSCALE:GREGORIAN
METHOD:PUBLISH
BEGIN:VEVENT
UID:6d089af7ea08cf5fad1b5cbe1f5dd32b@tg.grunliberale.ch
SUMMARY:Stammtisch GLP Weinfelden
DESCRIPTION:Wir treffen uns in der Felsenbar\n 
LOCATION:Felsenbar\, Amriswilerstrasse 3\, Weinfelden
DTSTAMP:20260421T085623Z
DTSTART:20261029T183000Z
DTEND:20261029T210000Z
END:VEVENT
END:VCALENDAR
