BEGIN:VCALENDAR
VERSION:2.0
PRODID:-//Eventin//Event Calendar//EN
CALSCALE:GREGORIAN
METHOD:PUBLISH
BEGIN:VEVENT
UID:94028edf0e280643ad9aa51d89f85ce0@tg.grunliberale.ch
SUMMARY:Mitgliederversammlung GLP Thurgau  4/4
DESCRIPTION:
LOCATION:tbd
DTSTAMP:20260419T131306Z
DTSTART:20261102T180000Z
DTEND:20261102T210000Z
END:VEVENT
END:VCALENDAR
